BEGIN:VCALENDAR
VERSION:2.0
PRODID:-//OmniMagnetCalendar//EN
BEGIN:VEVENT
DTSTAMP:20190625T195740Z
STATUS:CONFIRMED
UID:uanyc.com238
DTSTART:20111016T010000Z
DTEND:20111016T043000Z
LOCATION:The Ainsworth, 122 West 26th Street, New York City, NY, 10001,
SUMMARY:Ole Miss Football Game Watch Party
DESCRIPTION:Alabama travels west to Oxford to face Ole Miss in SEC West battle.
BEGIN:VALARM
TRIGGER:-PT15M
ACTION:DISPLAY
END:VALARM
TRANSP:OPAQUE
END:VEVENT
END:VCALENDAR
