BEGIN:VCALENDAR
VERSION:2.0
PRODID:-//OmniMagnetCalendar//EN
BEGIN:VEVENT
DTSTAMP:20190625T195740Z
STATUS:CONFIRMED
UID:uanyc.com239
DTSTART:20111023T021500Z
DTEND:20111023T054500Z
LOCATION:The Ainsworth, 122 West 26th Street, New York City, NY, 10001,
SUMMARY:Tennessee Football Game Watch Party
DESCRIPTION:The Crimson Tide takes on Tennessee in their annual late October matchup.
BEGIN:VALARM
TRIGGER:-PT15M
ACTION:DISPLAY
END:VALARM
TRANSP:OPAQUE
END:VEVENT
END:VCALENDAR
