BEGIN:VCALENDAR
VERSION:2.0
PRODID:-//OmniMagnetCalendar//EN
BEGIN:VEVENT
DTSTAMP:20190625T195740Z
STATUS:CONFIRMED
UID:uanyc.com242
DTSTART:20111028T013000Z
DTEND:20111028T043000Z
LOCATION:Aureole New York, 135 West 42nd Street, New York, NY, 10036,
SUMMARY:Chefs to Dine for Dinner at Aureole New York
DESCRIPTION:Enjoy dinner at Aureole with Charlie Palmer, one of the most highly regarded chefs in America today. 
BEGIN:VALARM
TRIGGER:-PT15M
ACTION:DISPLAY
END:VALARM
TRANSP:OPAQUE
END:VEVENT
END:VCALENDAR
