BEGIN:VCALENDAR
VERSION:2.0
PRODID:-//OmniMagnetCalendar//EN
BEGIN:VEVENT
DTSTAMP:20190625T195740Z
STATUS:CONFIRMED
UID:uanyc.com249
DTSTART:20111206T030000Z
DTEND:20111205T090000Z
LOCATION:Silverleaf Tavern, 43 East 38th Street, New York City, NY, 10016,
SUMMARY:2011 UANYC Holiday Party
DESCRIPTION:Alabama President Dr. Robert E. Witt headlines the special guests who will be in attendance for this year's party.
BEGIN:VALARM
TRIGGER:-PT15M
ACTION:DISPLAY
END:VALARM
TRANSP:OPAQUE
END:VEVENT
END:VCALENDAR
