BEGIN:VCALENDAR
VERSION:2.0
PRODID:-//OmniMagnetCalendar//EN
BEGIN:VEVENT
DTSTAMP:20190625T195740Z
STATUS:CONFIRMED
UID:uanyc.com250
DTSTART:20111202T063000Z
DTEND:20111202T083000Z
LOCATION:The Hill, 416 Third Avenue, New York City, NY, 10016,
SUMMARY:Georgetown Basketball Game Watch Party
DESCRIPTION:Join us for our first basketball game watch party of the season at The Hill!
BEGIN:VALARM
TRIGGER:-PT15M
ACTION:DISPLAY
END:VALARM
TRANSP:OPAQUE
END:VEVENT
END:VCALENDAR
