BEGIN:VCALENDAR
VERSION:2.0
PRODID:-//OmniMagnetCalendar//EN
BEGIN:VEVENT
DTSTAMP:20190625T195740Z
STATUS:CONFIRMED
UID:uanyc.com251
DTSTART:20120121T210000Z
DTEND:20120121T230000Z
LOCATION:The Hill, 416 Third Avenue, New York City, NY, 10016,
SUMMARY:Kentucky Basketball Game Watch Party
DESCRIPTION:The Tide and the Cats battle in key conference matchup.
BEGIN:VALARM
TRIGGER:-PT15M
ACTION:DISPLAY
END:VALARM
TRANSP:OPAQUE
END:VEVENT
END:VCALENDAR
