BEGIN:VCALENDAR
VERSION:2.0
PRODID:-//OmniMagnetCalendar//EN
BEGIN:VEVENT
DTSTAMP:20190625T195740Z
STATUS:CONFIRMED
UID:uanyc.com253
DTSTART:20111211T024500Z
DTEND:20111211T060000Z
LOCATION:Best Buy Theater, 1515 Broadway, 44th & Broadway, New York City, NY, 10036,
SUMMARY:2011 Heisman Presentation Rally & Watch Party
DESCRIPTION:Come join us at the Best Buy Theater to support our own Trent Richardson!
BEGIN:VALARM
TRIGGER:-PT15M
ACTION:DISPLAY
END:VALARM
TRANSP:OPAQUE
END:VEVENT
END:VCALENDAR
