BEGIN:VCALENDAR
VERSION:2.0
PRODID:-//OmniMagnetCalendar//EN
BEGIN:VEVENT
DTSTAMP:20190625T195740Z
STATUS:CONFIRMED
UID:uanyc.com262
DTSTART:20120212T040000Z
DTEND:20120212T060000Z
LOCATION:The Hill, 416 Third Avenue, New York City, NY, 10016,
SUMMARY:LSU Basketball Game Watch Party
DESCRIPTION:The Tide travels to Baton Rouge to take on LSU.
BEGIN:VALARM
TRIGGER:-PT15M
ACTION:DISPLAY
END:VALARM
TRANSP:OPAQUE
END:VEVENT
END:VCALENDAR
