BEGIN:VCALENDAR
VERSION:2.0
PRODID:-//OmniMagnetCalendar//EN
BEGIN:VEVENT
DTSTAMP:20190625T195740Z
STATUS:CONFIRMED
UID:uanyc.com263
DTSTART:20120218T223000Z
DTEND:20120219T003000Z
LOCATION:The Hill, 416 Third Avenue, New York City, NY, 10016,
SUMMARY:Tennessee Basketball Game Watch Party
DESCRIPTION:Alabama welcomes the Vols to Coleman Coliseum.
BEGIN:VALARM
TRIGGER:-PT15M
ACTION:DISPLAY
END:VALARM
TRANSP:OPAQUE
END:VEVENT
END:VCALENDAR
