BEGIN:VCALENDAR
VERSION:2.0
PRODID:-//OmniMagnetCalendar//EN
BEGIN:VEVENT
DTSTAMP:20190625T195740Z
STATUS:CONFIRMED
UID:uanyc.com264
DTSTART:20120226T030000Z
DTEND:20120226T050000Z
LOCATION:The Hill, 416 Third Avenue, New York City, NY, 10016,
SUMMARY:Mississippi State Basketball Game Watch Party
DESCRIPTION:The Tide and the Bulldogs battle to get off the bubble and firm its NCAA Tournament hopes.
BEGIN:VALARM
TRIGGER:-PT15M
ACTION:DISPLAY
END:VALARM
TRANSP:OPAQUE
END:VEVENT
END:VCALENDAR
