BEGIN:VCALENDAR
VERSION:2.0
PRODID:-//OmniMagnetCalendar//EN
BEGIN:VEVENT
DTSTAMP:20190625T195740Z
STATUS:CONFIRMED
UID:uanyc.com266
DTSTART:20120329T010000Z
DTEND:20120329T050000Z
LOCATION:Wharf Bar & Grill, 587 Third Avenue, New York, NY, 10016,
SUMMARY:SEC NYC Happy Hour - March 2012
DESCRIPTION:It's time for the first Southeastern Conference NYC Happy Hour of the year!
BEGIN:VALARM
TRIGGER:-PT15M
ACTION:DISPLAY
END:VALARM
TRANSP:OPAQUE
END:VEVENT
END:VCALENDAR
