BEGIN:VCALENDAR
VERSION:2.0
PRODID:-//OmniMagnetCalendar//EN
BEGIN:VEVENT
DTSTAMP:20190625T195740Z
STATUS:CONFIRMED
UID:uanyc.com269
DTSTART:20120426T010000Z
DTEND:20120426T050000Z
LOCATION:Idle Hands, 25 Avenue B, New York, NY, 10009,
SUMMARY:SEC NYC Happy Hour - April 2012
DESCRIPTION:Check out the next Southeastern Conference NYC Happy Hour at Idle Hands!
BEGIN:VALARM
TRIGGER:-PT15M
ACTION:DISPLAY
END:VALARM
TRANSP:OPAQUE
END:VEVENT
END:VCALENDAR
