BEGIN:VCALENDAR
VERSION:2.0
PRODID:-//OmniMagnetCalendar//EN
BEGIN:VEVENT
DTSTAMP:20190625T195740Z
STATUS:CONFIRMED
UID:uanyc.com270
DTSTART:20120508T010000Z
DTEND:20120508T040000Z
LOCATION:Bahoshy Field, 441 East Fordham Road, Bronx, NY, 10458,
SUMMARY:Softball Road Trip to the Bronx
DESCRIPTION:UANYC heads to the Bronx to support Alabama softball taking on Fordham!
BEGIN:VALARM
TRIGGER:-PT15M
ACTION:DISPLAY
END:VALARM
TRANSP:OPAQUE
END:VEVENT
END:VCALENDAR
