BEGIN:VCALENDAR
VERSION:2.0
PRODID:-//OmniMagnetCalendar//EN
BEGIN:VEVENT
DTSTAMP:20190625T195740Z
STATUS:CONFIRMED
UID:uanyc.com271
DTSTART:20120606T030000Z
DTEND:20120606T060000Z
LOCATION:The Hill, 416 3rd Avenue, New York, NY, 10016,
SUMMARY:NCAA Championship Softball Game Watch Party
DESCRIPTION:Come root the Crimson Tide softball team on to its first NCAA title!
BEGIN:VALARM
TRIGGER:-PT15M
ACTION:DISPLAY
END:VALARM
TRANSP:OPAQUE
END:VEVENT
END:VCALENDAR
