BEGIN:VCALENDAR
VERSION:2.0
PRODID:-//OmniMagnetCalendar//EN
BEGIN:VEVENT
DTSTAMP:20190625T195740Z
STATUS:CONFIRMED
UID:uanyc.com272
DTSTART:20120607T030000Z
DTEND:20120607T060000Z
LOCATION:The Hill, 416 3rd Avenue, New York, NY, 10016,
SUMMARY:NCAA Championship Softball Game Watch Party #2
DESCRIPTION:This one is for the title!
BEGIN:VALARM
TRIGGER:-PT15M
ACTION:DISPLAY
END:VALARM
TRANSP:OPAQUE
END:VEVENT
END:VCALENDAR
