BEGIN:VCALENDAR
VERSION:2.0
PRODID:-//OmniMagnetCalendar//EN
BEGIN:VEVENT
DTSTAMP:20190625T195740Z
STATUS:CONFIRMED
UID:uanyc.com278
DTSTART:20120713T020000Z
DTEND:20120713T060000Z
LOCATION:59E59 Theaters, 59 East 59th Street, New York, NY, 10022,
SUMMARY:UANYC Night at the Theater
DESCRIPTION:Alabama's own Seth Panitch brings his hilarious production to the Big Apple.
BEGIN:VALARM
TRIGGER:-PT15M
ACTION:DISPLAY
END:VALARM
TRANSP:OPAQUE
END:VEVENT
END:VCALENDAR
