BEGIN:VCALENDAR
VERSION:2.0
PRODID:-//OmniMagnetCalendar//EN
BEGIN:VEVENT
DTSTAMP:20190625T195740Z
STATUS:CONFIRMED
UID:uanyc.com279
DTSTART:20120902T030000Z
DTEND:20120902T063000Z
LOCATION:The Ainsworth, 122 West 26th Street, New York City, NY, 10001,
SUMMARY:Michigan Football Game Watch Party
DESCRIPTION:The Tide opens the 2012 season against Michigan at Cowboys Stadium!
BEGIN:VALARM
TRIGGER:-PT15M
ACTION:DISPLAY
END:VALARM
TRANSP:OPAQUE
END:VEVENT
END:VCALENDAR
