BEGIN:VCALENDAR
VERSION:2.0
PRODID:-//OmniMagnetCalendar//EN
BEGIN:VEVENT
DTSTAMP:20190625T195740Z
STATUS:CONFIRMED
UID:uanyc.com280
DTSTART:20120714T030000Z
DTEND:20120714T060000Z
LOCATION:Bowery Ballroom, 6 Delancey Street  , New York, NY, 10002,
SUMMARY:Moon Taxi at the Bowery Ballroom
DESCRIPTION:The Nashville-based band comes to NYC to perform and show their support of the Tide.
BEGIN:VALARM
TRIGGER:-PT15M
ACTION:DISPLAY
END:VALARM
TRANSP:OPAQUE
END:VEVENT
END:VCALENDAR
