BEGIN:VCALENDAR
VERSION:2.0
PRODID:-//OmniMagnetCalendar//EN
BEGIN:VEVENT
DTSTAMP:20190625T195740Z
STATUS:CONFIRMED
UID:uanyc.com291
DTSTART:20120927T000000Z
DTEND:20120927T050000Z
LOCATION:Ainsworth Park, 111 East 18th Street, New York, NY, 10003,
SUMMARY:SEC NYC Happy Hour - September 2012
DESCRIPTION:Join the SEC NYC alumni at the new Ainsworth Park!
BEGIN:VALARM
TRIGGER:-PT15M
ACTION:DISPLAY
END:VALARM
TRANSP:OPAQUE
END:VEVENT
END:VCALENDAR
