BEGIN:VCALENDAR
VERSION:2.0
PRODID:-//OmniMagnetCalendar//EN
BEGIN:VEVENT
DTSTAMP:20190625T195740Z
STATUS:CONFIRMED
UID:uanyc.com296
DTSTART:20121021T191500Z
DTEND:20121021T203000Z
LOCATION:National September 11 Memorial & Museum at the World Trade Center, One Liberty Plaza, New York City, NY, 10006,
SUMMARY:UANYC Tour of the 9/11 Memorial
DESCRIPTION:Join us for a special tour exclusively for UANYC members.
BEGIN:VALARM
TRIGGER:-PT15M
ACTION:DISPLAY
END:VALARM
TRANSP:OPAQUE
END:VEVENT
END:VCALENDAR
