BEGIN:VCALENDAR
VERSION:2.0
PRODID:-//OmniMagnetCalendar//EN
BEGIN:VEVENT
DTSTAMP:20190625T195740Z
STATUS:CONFIRMED
UID:uanyc.com305
DTSTART:20121116T040000Z
DTEND:20121116T063000Z
LOCATION:Madison Square Garden, 2 Penn Plaza, New York City, NY, 10121,
SUMMARY:Alabama Basketball vs. Oregon State in the 2K Sports Classic
DESCRIPTION:Join us at 5 p.m. for pregame at The Ainsworth!
BEGIN:VALARM
TRIGGER:-PT15M
ACTION:DISPLAY
END:VALARM
TRANSP:OPAQUE
END:VEVENT
END:VCALENDAR
