BEGIN:VCALENDAR
VERSION:2.0
PRODID:-//OmniMagnetCalendar//EN
BEGIN:VEVENT
DTSTAMP:20190625T195740Z
STATUS:CONFIRMED
UID:uanyc.com306
DTSTART:20121117T020000Z
DTEND:20121117T070000Z
LOCATION:Madison Square Garden, 2 Penn Plaza, New York City, NY, 10121,
SUMMARY:Alabama Basketball vs. Villanova in the 2K Sports Classic
DESCRIPTION:The Tide plays for the 2k Classic title in the Garden!
BEGIN:VALARM
TRIGGER:-PT15M
ACTION:DISPLAY
END:VALARM
TRANSP:OPAQUE
END:VEVENT
END:VCALENDAR
