BEGIN:VCALENDAR
VERSION:2.0
PRODID:-//OmniMagnetCalendar//EN
BEGIN:VEVENT
DTSTAMP:20190625T195740Z
STATUS:CONFIRMED
UID:uanyc.com307
DTSTART:20121204T030000Z
DTEND:20121204T060000Z
LOCATION:Silverleaf Tavern, 43 East 38th Street, New York City, NY, 10016,
SUMMARY:2012 UANYC Holiday Party
DESCRIPTION:Celebrate the holidays with us!
BEGIN:VALARM
TRIGGER:-PT15M
ACTION:DISPLAY
END:VALARM
TRANSP:OPAQUE
END:VEVENT
END:VCALENDAR
