BEGIN:VCALENDAR
VERSION:2.0
PRODID:-//OmniMagnetCalendar//EN
BEGIN:VEVENT
DTSTAMP:20190625T195740Z
STATUS:CONFIRMED
UID:uanyc.com309
DTSTART:20121125T003000Z
DTEND:20121125T040000Z
LOCATION:The Ainsworth, 122 West 26th Street, New York City, NY, 10001,
SUMMARY:Auburn Football Game Watch Party
DESCRIPTION:Alabama. Auburn. The Iron Bowl!
BEGIN:VALARM
TRIGGER:-PT15M
ACTION:DISPLAY
END:VALARM
TRANSP:OPAQUE
END:VEVENT
END:VCALENDAR
