BEGIN:VCALENDAR
VERSION:2.0
PRODID:-//OmniMagnetCalendar//EN
BEGIN:VEVENT
DTSTAMP:20190625T195740Z
STATUS:CONFIRMED
UID:uanyc.com312
DTSTART:20130108T053000Z
DTEND:20130108T085900Z
LOCATION:The Ainsworth, 122 West 26th Street, New York City, NY, 10001,
SUMMARY:BCS National Championship Game Watch Party
DESCRIPTION:Second-ranked Alabama takes on top-ranked Notre Dame in this national championship heavyweight battle!
BEGIN:VALARM
TRIGGER:-PT15M
ACTION:DISPLAY
END:VALARM
TRANSP:OPAQUE
END:VEVENT
END:VCALENDAR
