BEGIN:VCALENDAR
VERSION:2.0
PRODID:-//OmniMagnetCalendar//EN
BEGIN:VEVENT
DTSTAMP:20190625T195740Z
STATUS:CONFIRMED
UID:uanyc.com314
DTSTART:20130112T220000Z
DTEND:20130113T000000Z
LOCATION:The Hill, 416 Third Avenue, New York, NY, 10016,
SUMMARY:Tennessee Basketball Game Watch Party
DESCRIPTION:Alabama men's basketball hosts Tennessee in a matinee tip from Coleman Coliseum!
BEGIN:VALARM
TRIGGER:-PT15M
ACTION:DISPLAY
END:VALARM
TRANSP:OPAQUE
END:VEVENT
END:VCALENDAR
