BEGIN:VCALENDAR
VERSION:2.0
PRODID:-//OmniMagnetCalendar//EN
BEGIN:VEVENT
DTSTAMP:20190625T195740Z
STATUS:CONFIRMED
UID:uanyc.com315
DTSTART:20130123T060000Z
DTEND:20130123T080000Z
LOCATION:The Hill, 416 Third Avenue, New York, NY, 10016,
SUMMARY:Kentucky Basketball Game Watch Party
DESCRIPTION:The Tide and the 'Cats meet in a Super Tuesday clash on ESPN!
BEGIN:VALARM
TRIGGER:-PT15M
ACTION:DISPLAY
END:VALARM
TRANSP:OPAQUE
END:VEVENT
END:VCALENDAR
