BEGIN:VCALENDAR
VERSION:2.0
PRODID:-//OmniMagnetCalendar//EN
BEGIN:VEVENT
DTSTAMP:20190625T195740Z
STATUS:CONFIRMED
UID:uanyc.com318
DTSTART:20130302T210000Z
DTEND:20130302T230000Z
LOCATION:The Hill, 416 Third Avenue, New York, NY, 10016,
SUMMARY:Florida Basketball Game Watch Party
DESCRIPTION:Alabama has a chance to make some late-season noise at the O-Dome against Florida!
BEGIN:VALARM
TRIGGER:-PT15M
ACTION:DISPLAY
END:VALARM
TRANSP:OPAQUE
END:VEVENT
END:VCALENDAR
