BEGIN:VCALENDAR
VERSION:2.0
PRODID:-//OmniMagnetCalendar//EN
BEGIN:VEVENT
DTSTAMP:20190625T195740Z
STATUS:CONFIRMED
UID:uanyc.com319
DTSTART:20130228T020000Z
DTEND:20130228T070000Z
LOCATION:Ainsworth Park, 111 East 18th Street, New York, NY, 10003,
SUMMARY:SEC NYC Happy Hour - February 2013
DESCRIPTION:Join the SEC NYC alumni at Ainsworth Park!
BEGIN:VALARM
TRIGGER:-PT15M
ACTION:DISPLAY
END:VALARM
TRANSP:OPAQUE
END:VEVENT
END:VCALENDAR
