BEGIN:VCALENDAR
VERSION:2.0
PRODID:-//OmniMagnetCalendar//EN
BEGIN:VEVENT
DTSTAMP:20190625T195740Z
STATUS:CONFIRMED
UID:uanyc.com320
DTSTART:20130328T010000Z
DTEND:20130328T050000Z
LOCATION:121 Fulton, 121 Fulton Street, New York, NY, 10038,
SUMMARY:SEC NYC Happy Hour - March 2013
DESCRIPTION:Join SEC NYC alumni for some Madness at 121 Fulton!
BEGIN:VALARM
TRIGGER:-PT15M
ACTION:DISPLAY
END:VALARM
TRANSP:OPAQUE
END:VEVENT
END:VCALENDAR
