BEGIN:VCALENDAR
VERSION:2.0
PRODID:-//OmniMagnetCalendar//EN
BEGIN:VEVENT
DTSTAMP:20190625T195740Z
STATUS:CONFIRMED
UID:uanyc.com322
DTSTART:20130420T220000Z
DTEND:20130421T020000Z
LOCATION:Ainsworth Park, 111 East 18th Street, New York, NY, 10003,
SUMMARY:A-Day Game Watch Party
DESCRIPTION:Join us for the first preview of the 2013 Crimson Tide football team!
BEGIN:VALARM
TRIGGER:-PT15M
ACTION:DISPLAY
END:VALARM
TRANSP:OPAQUE
END:VEVENT
END:VCALENDAR
