BEGIN:VCALENDAR
VERSION:2.0
PRODID:-//OmniMagnetCalendar//EN
BEGIN:VEVENT
DTSTAMP:20190625T195740Z
STATUS:CONFIRMED
UID:uanyc.com325
DTSTART:20130530T010000Z
DTEND:20130530T050000Z
LOCATION:The Hill, 416 Third Avenue, New York, NY, 10016,
SUMMARY:SEC NYC Happy Hour - May 2013
DESCRIPTION:The Hill is this month's happy hour stop for SEC alums in NYC!
BEGIN:VALARM
TRIGGER:-PT15M
ACTION:DISPLAY
END:VALARM
TRANSP:OPAQUE
END:VEVENT
END:VCALENDAR
