BEGIN:VCALENDAR
VERSION:2.0
PRODID:-//OmniMagnetCalendar//EN
BEGIN:VEVENT
DTSTAMP:20190625T195740Z
STATUS:CONFIRMED
UID:uanyc.com328
DTSTART:20130627T010000Z
DTEND:20130627T030000Z
LOCATION:Ainsworth Park, 111 East 18th Street, New York, NY, 10003,
SUMMARY:UANYC Summer Mixer
DESCRIPTION:Meet summer interns and new grads enjoying summer time in the Big Apple!
BEGIN:VALARM
TRIGGER:-PT15M
ACTION:DISPLAY
END:VALARM
TRANSP:OPAQUE
END:VEVENT
END:VCALENDAR
