BEGIN:VCALENDAR
VERSION:2.0
PRODID:-//OmniMagnetCalendar//EN
BEGIN:VEVENT
DTSTAMP:20190625T195740Z
STATUS:CONFIRMED
UID:uanyc.com330
DTSTART:20130810T220000Z
DTEND:20130811T030000Z
LOCATION:Bar Anticipation, 703 16th Avenue, Lake Como, NJ, 07719,
SUMMARY:Jersey Shore SEC Kickoff
DESCRIPTION:Enjoy an afternoon on the Jersey Shore mixing and mingling with SEC alums from around the northeast!
BEGIN:VALARM
TRIGGER:-PT15M
ACTION:DISPLAY
END:VALARM
TRANSP:OPAQUE
END:VEVENT
END:VCALENDAR
