BEGIN:VCALENDAR
VERSION:2.0
PRODID:-//OmniMagnetCalendar//EN
BEGIN:VEVENT
DTSTAMP:20190625T195740Z
STATUS:CONFIRMED
UID:uanyc.com334
DTSTART:20130901T003000Z
DTEND:20130901T050000Z
LOCATION:The Ainsworth, 122 West 26th Street, New York, NY, 10001,
SUMMARY:Virginia Tech Football Game Watch Party
DESCRIPTION:The Tide kicks off its run to No. 15 against the Hokies at the Georgia Dome!
BEGIN:VALARM
TRIGGER:-PT15M
ACTION:DISPLAY
END:VALARM
TRANSP:OPAQUE
END:VEVENT
END:VCALENDAR
