BEGIN:VCALENDAR
VERSION:2.0
PRODID:-//OmniMagnetCalendar//EN
BEGIN:VEVENT
DTSTAMP:20190625T195740Z
STATUS:CONFIRMED
UID:uanyc.com345
DTSTART:20131128T040000Z
DTEND:20131201T023000Z
LOCATION:Madison Square Garden, 4 Pennsylvania Plaza, New York, NY, 10001,
SUMMARY:Alabama Basketball in the NIT Season Tip-Off
DESCRIPTION:The Tide's men's basketball squad is back at the World's Most Famous Arena!
BEGIN:VALARM
TRIGGER:-PT15M
ACTION:DISPLAY
END:VALARM
TRANSP:OPAQUE
END:VEVENT
END:VCALENDAR
