BEGIN:VCALENDAR
VERSION:2.0
PRODID:-//OmniMagnetCalendar//EN
BEGIN:VEVENT
DTSTAMP:20190625T195740Z
STATUS:CONFIRMED
UID:uanyc.com348
DTSTART:20131212T030000Z
DTEND:20131212T060000Z
LOCATION:Millesime, 92 Madison Avenue, New York, NY, 10016,
SUMMARY:2013 UANYC Holiday Party
DESCRIPTION:Come celebrate the season with UANYC!
BEGIN:VALARM
TRIGGER:-PT15M
ACTION:DISPLAY
END:VALARM
TRANSP:OPAQUE
END:VEVENT
END:VCALENDAR
