BEGIN:VCALENDAR
VERSION:2.0
PRODID:-//OmniMagnetCalendar//EN
BEGIN:VEVENT
DTSTAMP:20190625T195740Z
STATUS:CONFIRMED
UID:uanyc.com349
DTSTART:20131201T003000Z
DTEND:20131201T040000Z
LOCATION:The Ainsworth, 122 West 26th Street, New York, NY, 10001,
SUMMARY:Auburn Football Game Watch Party
DESCRIPTION:Online table reservations have now CLOSED. Reservations are not required to join us to watch the game at either The Ainsworth or Ainsworth Park. There will be plenty of bar space available for walk-ins, especially at Ainsworth Park.
BEGIN:VALARM
TRIGGER:-PT15M
ACTION:DISPLAY
END:VALARM
TRANSP:OPAQUE
END:VEVENT
END:VCALENDAR
