BEGIN:VCALENDAR
VERSION:2.0
PRODID:-//OmniMagnetCalendar//EN
BEGIN:VEVENT
DTSTAMP:20190625T195740Z
STATUS:CONFIRMED
UID:uanyc.com350
DTSTART:20131215T023000Z
DTEND:20131215T060000Z
LOCATION:Best Buy Theater, 1515 Broadway, New York, NY, 10036,
SUMMARY:2013 Heisman Presentation Rally & Watch Party
DESCRIPTION:UANYC welcomes AJ to the Big Apple!
BEGIN:VALARM
TRIGGER:-PT15M
ACTION:DISPLAY
END:VALARM
TRANSP:OPAQUE
END:VEVENT
END:VCALENDAR
