BEGIN:VCALENDAR
VERSION:2.0
PRODID:-//OmniMagnetCalendar//EN
BEGIN:VEVENT
DTSTAMP:20190625T195740Z
STATUS:CONFIRMED
UID:uanyc.com354
DTSTART:20140118T230000Z
DTEND:20140119T010000Z
LOCATION:The Hill, 416 3rd Avenue, New York, NY, 10016,
SUMMARY:Missouri Basketball Game Watch Party
DESCRIPTION:The Tide travels to Mizzou for a key conference matchup!
BEGIN:VALARM
TRIGGER:-PT15M
ACTION:DISPLAY
END:VALARM
TRANSP:OPAQUE
END:VEVENT
END:VCALENDAR
