BEGIN:VCALENDAR
VERSION:2.0
PRODID:-//OmniMagnetCalendar//EN
BEGIN:VEVENT
DTSTAMP:20190625T195740Z
STATUS:CONFIRMED
UID:uanyc.com356
DTSTART:20140208T210000Z
DTEND:20140208T230000Z
LOCATION:The Hill, 416 3rd Avenue, New York, NY, 10016,
SUMMARY:Florida Basketball Game Watch Party
DESCRIPTION:The Tide meets the Gators in a tough SEC battle!
BEGIN:VALARM
TRIGGER:-PT15M
ACTION:DISPLAY
END:VALARM
TRANSP:OPAQUE
END:VEVENT
END:VCALENDAR
