BEGIN:VCALENDAR
VERSION:2.0
PRODID:-//OmniMagnetCalendar//EN
BEGIN:VEVENT
DTSTAMP:20190625T195740Z
STATUS:CONFIRMED
UID:uanyc.com357
DTSTART:20140221T040000Z
DTEND:20140221T060000Z
LOCATION:The Hill, 416 3rd Avenue, New York, NY, 10016,
SUMMARY:Texas A&M Basketball Game Watch Party
DESCRIPTION:The Tide rolls to College Station to take on the Aggies!
BEGIN:VALARM
TRIGGER:-PT15M
ACTION:DISPLAY
END:VALARM
TRANSP:OPAQUE
END:VEVENT
END:VCALENDAR
