BEGIN:VCALENDAR
VERSION:2.0
PRODID:-//OmniMagnetCalendar//EN
BEGIN:VEVENT
DTSTAMP:20190625T195740Z
STATUS:CONFIRMED
UID:uanyc.com361
DTSTART:20140707T233000Z
DTEND:20140710T010000Z
LOCATION:The Ed Sullivan Theater, 1697-1699 Broadway, New York, NY, 10019,
SUMMARY:Free Late Show with David Letterman Tickets for UANYC Members
DESCRIPTION:Catch the Late Show for FREE!
BEGIN:VALARM
TRIGGER:-PT15M
ACTION:DISPLAY
END:VALARM
TRANSP:OPAQUE
END:VEVENT
END:VCALENDAR
