BEGIN:VCALENDAR
VERSION:2.0
PRODID:-//OmniMagnetCalendar//EN
BEGIN:VEVENT
DTSTAMP:20190625T195740Z
STATUS:CONFIRMED
UID:uanyc.com362
DTSTART:20140626T010000Z
DTEND:20140626T030000Z
LOCATION:230 Fifth, 230 Fifth Avenue, New York, NY, 10037,
SUMMARY:UANYC Summer Mixer
DESCRIPTION:Meet summer interns and new grads enjoying summer time in the Big Apple!
BEGIN:VALARM
TRIGGER:-PT15M
ACTION:DISPLAY
END:VALARM
TRANSP:OPAQUE
END:VEVENT
END:VCALENDAR
