BEGIN:VCALENDAR
VERSION:2.0
PRODID:-//OmniMagnetCalendar//EN
BEGIN:VEVENT
DTSTAMP:20190625T195740Z
STATUS:CONFIRMED
UID:uanyc.com365
DTSTART:20140731T010000Z
DTEND:20140731T050000Z
LOCATION:Playwright Celtric Pub, 732 8th Ave, New York, NY, 10036,
SUMMARY:SEC NYC Happy Hour - July 2014
DESCRIPTION:Join alums from all 14 schools to celebrate the launch of the SEC Network!
BEGIN:VALARM
TRIGGER:-PT15M
ACTION:DISPLAY
END:VALARM
TRANSP:OPAQUE
END:VEVENT
END:VCALENDAR
