BEGIN:VCALENDAR
VERSION:2.0
PRODID:-//OmniMagnetCalendar//EN
BEGIN:VEVENT
DTSTAMP:20190625T195740Z
STATUS:CONFIRMED
UID:uanyc.com366
DTSTART:20140828T010000Z
DTEND:20140828T050000Z
LOCATION:American Whiskey, 247 West 30th Street, New York, NY, 10001,
SUMMARY:SEC NYC Happy Hour - August 2014
DESCRIPTION:Get ready for the start of the 2014 college football season!
BEGIN:VALARM
TRIGGER:-PT15M
ACTION:DISPLAY
END:VALARM
TRANSP:OPAQUE
END:VEVENT
END:VCALENDAR
