BEGIN:VCALENDAR
VERSION:2.0
PRODID:-//OmniMagnetCalendar//EN
BEGIN:VEVENT
DTSTAMP:20190625T195740Z
STATUS:CONFIRMED
UID:uanyc.com370
DTSTART:20140925T010000Z
DTEND:20140925T050000Z
LOCATION:McHale's Bar & Grill, 251 W 51st St, New York, NY, 10019,
SUMMARY:SEC NYC Happy Hour - September 2014
DESCRIPTION:Join SEC alumni from all 14 schools for the last happy hour of the year!
BEGIN:VALARM
TRIGGER:-PT15M
ACTION:DISPLAY
END:VALARM
TRANSP:OPAQUE
END:VEVENT
END:VCALENDAR
