BEGIN:VCALENDAR
VERSION:2.0
PRODID:-//OmniMagnetCalendar//EN
BEGIN:VEVENT
DTSTAMP:20190625T195740Z
STATUS:CONFIRMED
UID:uanyc.com379
DTSTART:20141211T040000Z
DTEND:20141211T060000Z
LOCATION:Grape & Vine in the Jade Hotel, 52 West 13th Steet, New York, NY, 10011,
SUMMARY:2014 UANYC Holiday Party
DESCRIPTION:Celebrate the holidays with UANYC!
BEGIN:VALARM
TRIGGER:-PT15M
ACTION:DISPLAY
END:VALARM
TRANSP:OPAQUE
END:VEVENT
END:VCALENDAR
