BEGIN:VCALENDAR
VERSION:2.0
PRODID:-//OmniMagnetCalendar//EN
BEGIN:VEVENT
DTSTAMP:20190625T195740Z
STATUS:CONFIRMED
UID:uanyc.com382
DTSTART:20141214T024500Z
DTEND:20141214T040000Z
LOCATION:Best Buy Theater, 1515 Broadway, New , NY, 10036,
SUMMARY:2014 Heisman Trophy Rally for Amari Cooper
DESCRIPTION:Let's welcome Coop to the Big Apple!
BEGIN:VALARM
TRIGGER:-PT15M
ACTION:DISPLAY
END:VALARM
TRANSP:OPAQUE
END:VEVENT
END:VCALENDAR
