BEGIN:VCALENDAR
VERSION:2.0
PRODID:-//OmniMagnetCalendar//EN
BEGIN:VEVENT
DTSTAMP:20190625T195740Z
STATUS:CONFIRMED
UID:uanyc.com387
DTSTART:20150430T010000Z
DTEND:20150430T050000Z
LOCATION:Village Pourhouse, 64 3rd Avenue, New York, NY, 10003,
SUMMARY:SEC NYC Happy Hour - April 2015
DESCRIPTION:Join alums from all 14 schools to celebrate spring in the Big Apple!
BEGIN:VALARM
TRIGGER:-PT15M
ACTION:DISPLAY
END:VALARM
TRANSP:OPAQUE
END:VEVENT
END:VCALENDAR
